BEGIN:VCALENDAR
VERSION:2.0
PRODID:-//Tukios.com/
BEGIN:VEVENT
UID:3b659dd8-0f42-4722-a725-23e5fed1b70f@www.sturmfh.com
DTSTAMP:20260426T010318Z
DTSTART:20260430T210000Z
DTEND:20260501T000000Z
SUMMARY:Visitation
DESCRIPTION:
URL:https://www.sturmfh.com/obituaries/peggy-guillen
LOCATION:Sturm Funeral Home - St. James 906 10th Ave S  Saint James MN 
	56081
GEO:43.9749356;-94.6204619
END:VEVENT
END:VCALENDAR