BEGIN:VCALENDAR
VERSION:2.0
PRODID:-//Tukios.com/
BEGIN:VEVENT
UID:a76d6178-7db6-457a-8a05-39dbae5a30bc@www.sturmfh.com
DTSTAMP:20260426T005844Z
DTSTART:20260501T150000Z
DTEND:20260501T160000Z
SUMMARY:Visitation
DESCRIPTION:
URL:https://www.sturmfh.com/obituaries/peggy-guillen
LOCATION:Augustana Lutheran Church - St. James 603 Armstrong Blvd N P.O. 
	Box 151 Saint James MN 56081
GEO:43.9863795;-94.6301576
END:VEVENT
END:VCALENDAR