BEGIN:VCALENDAR
VERSION:2.0
PRODID:-//Tukios.com/
BEGIN:VEVENT
UID:4b51f2fd-5316-461f-b8ef-7886b68f6a3c@www.sturmfh.com
DTSTAMP:20260426T010255Z
DTSTART:20260501T160000Z
DTEND:20260501T170000Z
SUMMARY:Memorial Service
DESCRIPTION:
URL:https://www.sturmfh.com/obituaries/peggy-guillen
LOCATION:Augustana Lutheran Church - St. James 603 Armstrong Blvd N P.O. 
	Box 151 Saint James MN 56081
GEO:43.9863795;-94.6301576
END:VEVENT
END:VCALENDAR