BEGIN:VCALENDAR
VERSION:2.0
PRODID:-//Tukios.com/
BEGIN:VEVENT
UID:b25c41b7-2dbe-46f9-894f-1d0962b51e36@www.sturmfh.com
DTSTAMP:20260426T010214Z
DTSTART:20260501T170000Z
DTEND:20260501T173000Z
SUMMARY:Burial
DESCRIPTION:
URL:https://www.sturmfh.com/obituaries/peggy-guillen
LOCATION:Mount Hope Cemetery County Road 27  Saint James MN 56081
GEO:43.9747309;-94.6195518
END:VEVENT
END:VCALENDAR