BEGIN:VCALENDAR
VERSION:2.0
PRODID:-//Tukios.com/
BEGIN:VEVENT
UID:b836c95c-04b4-498d-9495-694298f98e2c@www.sturmfh.com
DTSTAMP:20260424T204252Z
DTSTART:20260530T190000Z
DTEND:20260530T210000Z
SUMMARY:Celebration of Life
DESCRIPTION:
URL:https://www.sturmfh.com/obituaries/michael-crouch
LOCATION:Sportsman's Park, Sleepy Eye 1000 3rd Ave NW  Sleepy Eye MN 
	56085
GEO:44.3098869;-94.7290462
END:VEVENT
END:VCALENDAR