BEGIN:VCALENDAR
VERSION:2.0
PRODID:-//Tukios.com/
BEGIN:VEVENT
UID:b6690380-1c32-4a89-a7b8-eab3687fe314@www.sturmfh.com
DTSTAMP:20260420T013216Z
DTSTART:20260422T220000Z
DTEND:20260423T000000Z
SUMMARY:Visitation
DESCRIPTION:
URL:https://www.sturmfh.com/obituaries/mary-wiese
LOCATION:Sturm Funeral Home - Comfrey 101 Field St N  Comfrey MN 56019
GEO:44.110159;-94.9062277
END:VEVENT
END:VCALENDAR