BEGIN:VCALENDAR
VERSION:2.0
PRODID:-//Tukios.com/
BEGIN:VEVENT
UID:22d2e869-4511-47a3-a9a0-358fbea35986@www.sturmfh.com
DTSTAMP:20260420T013233Z
DTSTART:20260423T150000Z
DTEND:20260423T160000Z
SUMMARY:Visitation
DESCRIPTION:
URL:https://www.sturmfh.com/obituaries/mary-wiese
LOCATION:New Hope Lutheran Church - Comfrey 301 S Court  Comfrey MN 56019
GEO:44.1078417;-94.9045487
END:VEVENT
END:VCALENDAR