BEGIN:VCALENDAR
VERSION:2.0
PRODID:-//Tukios.com/
BEGIN:VEVENT
UID:130f749d-bbf8-44ba-87b0-072fec6d6665@www.sturmfh.com
DTSTAMP:20260420T012929Z
DTSTART:20260423
SUMMARY:Burial
DESCRIPTION:
URL:https://www.sturmfh.com/obituaries/mary-wiese
LOCATION:Springfield City Cemetery 38521 Co Hwy 24  Springfield MN 56087
GEO:44.230805;-94.9574931
END:VEVENT
END:VCALENDAR