BEGIN:VCALENDAR
VERSION:2.0
PRODID:-//Tukios.com/
BEGIN:VEVENT
UID:01e58d63-b8e5-4ede-85f2-4a1c3fcadd80@www.sturmfh.com
DTSTAMP:20260420T212034Z
DTSTART:20260425T150000Z
DTEND:20260425T160000Z
SUMMARY:Visitation
DESCRIPTION:
URL:https://www.sturmfh.com/obituaries/lorraine-munsterman
LOCATION:St. Pauls Evangelical Lutheran Church - St. James   315 9th 
	Street South  Saint James MN 56081
GEO:43.9811311;-94.6225194
END:VEVENT
END:VCALENDAR