BEGIN:VCALENDAR
VERSION:2.0
PRODID:-//Tukios.com/
BEGIN:VEVENT
UID:dedc0b61-1931-42ea-a8ff-644974473720@www.sturmfh.com
DTSTAMP:20260420T212439Z
DTSTART:20260425T160000Z
DTEND:20260425T170000Z
SUMMARY:Funeral Service
DESCRIPTION:
URL:https://www.sturmfh.com/obituaries/lorraine-munsterman
LOCATION:St. Pauls Evangelical Lutheran Church - St. James   315 9th 
	Street South  Saint James MN 56081
GEO:43.9811311;-94.6225194
END:VEVENT
END:VCALENDAR