BEGIN:VCALENDAR
VERSION:2.0
PRODID:-//Tukios.com/
BEGIN:VEVENT
UID:718030d5-3586-4013-9d99-94c24c1e9173@www.sturmfh.com
DTSTAMP:20260420T212357Z
DTSTART:20260425
SUMMARY:Burial
DESCRIPTION:
URL:https://www.sturmfh.com/obituaries/lorraine-munsterman
LOCATION:Butterfield City Cemetery County Rd 5  Butterfield MN 56120
GEO:43.9611724;-94.7906504
END:VEVENT
END:VCALENDAR