BEGIN:VCALENDAR
VERSION:2.0
PRODID:-//Tukios.com/
BEGIN:VEVENT
UID:a20ffeb2-99b2-40b7-8cdf-a44767f32e1b@www.sturmfh.com
DTSTAMP:20260422T201523Z
DTSTART:20260427T150000Z
DTEND:20260427T160000Z
SUMMARY:Visitation
DESCRIPTION:
URL:https://www.sturmfh.com/obituaries/allen-groebner
LOCATION: 303 North Cass Avenue  Springfield MN 56087
GEO:44.2423418;-94.9743481
END:VEVENT
END:VCALENDAR