BEGIN:VCALENDAR
VERSION:2.0
PRODID:-//Tukios.com/
BEGIN:VEVENT
UID:c527a350-d935-4b7c-bcf8-378232a3d9f8@www.sturmfh.com
DTSTAMP:20260422T201211Z
DTSTART:20260427T160000Z
DTEND:20260427T170000Z
SUMMARY:Funeral Service
DESCRIPTION:
URL:https://www.sturmfh.com/obituaries/allen-groebner
LOCATION: 303 North Cass Avenue  Springfield MN 56087
GEO:44.2423418;-94.9743481
END:VEVENT
END:VCALENDAR