BEGIN:VCALENDAR
VERSION:2.0
PRODID:-//Tukios.com/
BEGIN:VEVENT
UID:618cd9c9-8728-4aa7-83e8-be679e827eef@www.sturmfh.com
DTSTAMP:20260422T201217Z
DTSTART:20260426T200000Z
DTEND:20260426T230000Z
SUMMARY:Visitation
DESCRIPTION:
URL:https://www.sturmfh.com/obituaries/allen-groebner
LOCATION: 407 N. Jackson Avenue, P.O. Box 58  Springfield MN 56087
GEO:44.2439497;-94.9711797
END:VEVENT
END:VCALENDAR